BEGIN:VCALENDAR
VERSION:2.0
PRODID:-//wp-events-plugin.com//7.0.5//EN
TZID:Europe/Berlin
X-WR-TIMEZONE:Europe/Berlin
BEGIN:VEVENT
UID:55@owk-gras-ellenbach.de
DTSTART;TZID=Europe/Berlin:20200625T213000
DTEND;TZID=Europe/Berlin:20200625T233000
DTSTAMP:20200619T085652Z
URL:https://owk-gras-ellenbach.de/events/gluehwuermchen-wanderung-nachtwan
 derung-2130-uhr/
SUMMARY:Glühwürmchen Wanderung - Nachtwanderung 21:30 Uhr
DESCRIPTION:Anmeldung bis 22. Juni 2020 unter 06151 146341 oder 0172 442 46
  44  !\n\nUnser Glühwürmchenflüsterer lädt zu einer sinnlichen Nachtw
 anderung im Gassbachtal ein.\n\nZwischen Johannisnacht und Sommerbeginn\, 
 also in den kürzesten Nächten des Jahres\, wollen wir auf Glühwürmchen
 schau gehen und uns überraschen lassen\, ob die Tierchen wirklich auftauc
 hen. Wir werden auf jeden Fall feststellen\, dass nachts die Natur anders 
 erlebt wird als am Tag. Es ist jedoch zu wünschen\, dass viele „fliegen
 de Taschenlämpchen“  beobachtet werden können und wir ein tolles Natu
 rschauspiel in unseren heimatlichen Gefilden erleben werden. Apropos Tasch
 enlampen:  Für Notfälle ist es nicht verkehrt\, eine Taschenlampe dabei
  zu haben – während der Wanderung ist sie jedoch auszulassen!\n\nVerpfl
 egung ist mit zu nehmen \, es findet keine Einkehr statt.
LOCATION:Nibelungenhalle\, Am Kurpark 1\, Grasellenbach\, Hessen\, 64689\, 
 Odenwald\, Deutschland
X-APPLE-STRUCTURED-LOCATION;VALUE=URI;X-ADDRESS=Am Kurpark 1\, Grasellenbac
 h\, Hessen\, 64689\, Odenwald\, Deutschland;X-APPLE-RADIUS=100;X-TITLE=Nib
 elungenhalle:geo:0,0
END:VEVENT
BEGIN:VTIMEZONE
TZID:Europe/Berlin
X-LIC-LOCATION:Europe/Berlin
BEGIN:DAYLIGHT
DTSTART:20200329T030000
TZOFFSETFROM:+0100
TZOFFSETTO:+0200
TZNAME:CEST
END:DAYLIGHT
END:VTIMEZONE
END:VCALENDAR