BEGIN:VCALENDAR
VERSION:2.0
PRODID:-//wp-events-plugin.com//7.0.5//EN
TZID:Europe/Berlin
X-WR-TIMEZONE:Europe/Berlin
BEGIN:VEVENT
UID:126@owk-gras-ellenbach.de
DTSTART;TZID=Europe/Berlin:20231022T100000
DTEND;TZID=Europe/Berlin:20231022T160000
DTSTAMP:20231018T131113Z
URL:https://owk-gras-ellenbach.de/events/kameralwald-weg-bei-wilhemsfeld/
SUMMARY:Kameralwald-Weg bei Wilhemsfeld
DESCRIPTION:Komoot lange Tour :  mittelschwer\, Dauer 3\,5 h\, Strecke: 13
  km\, 270 Höhenmeter\n\nKomoot kurze Tour : leicht\, Dauer 2h\,  Strecke
 :  7\,65 km\, 160 Höhenmeter\n\nWir folgen der Wegmarkierung W5:\n- Siss
 i-Stein\n- Philosopheneck\, Wilhelmsfeld\n- Linden-Hütte\n- Prinzensitz\,
  Schönau\n- Schriesheimer Kopf mit Teltschikturm\nDie kurze Tour übernim
 mt Anneliese Daub.\nSie wird hieraus eine Gesundheitwanderung entwickeln w
 o es haubtsächlich um das Thema Atmen geht. Es wird langsam gewandert mit
  Übungspausen.\nEine Rast findet am Holzapfelbaum statt. Weitere Infos gi
 bt es von Anneliese Daub.
ATTACH;FMTTYPE=image/jpeg:https://owk-gras-ellenbach.de/wp-content/uploads
 /2023/10/2023-10-02_11h08_26.png
LOCATION:Nibelungenhalle\, Gras-Ellenbach\, Am Kurpark \, Grasellenbach\, H
 essen\, 64689\, Odenwald\, Deutschland
X-APPLE-STRUCTURED-LOCATION;VALUE=URI;X-ADDRESS=Am Kurpark \, Grasellenbach
 \, Hessen\, 64689\, Odenwald\, Deutschland;X-APPLE-RADIUS=100;X-TITLE=Nibe
 lungenhalle\, Gras-Ellenbach:geo:0,0
END:VEVENT
BEGIN:VTIMEZONE
TZID:Europe/Berlin
X-LIC-LOCATION:Europe/Berlin
BEGIN:DAYLIGHT
DTSTART:20230326T030000
TZOFFSETFROM:+0100
TZOFFSETTO:+0200
TZNAME:CEST
END:DAYLIGHT
END:VTIMEZONE
END:VCALENDAR