BEGIN:VCALENDAR
VERSION:2.0
PRODID:-//wp-events-plugin.com//7.0.5//EN
TZID:Europe/Berlin
X-WR-TIMEZONE:Europe/Berlin
BEGIN:VEVENT
UID:115@owk-gras-ellenbach.de
DTSTART;TZID=Europe/Berlin:20230430T100000
DTEND;TZID=Europe/Berlin:20230430T160000
DTSTAMP:20230414T120359Z
URL:https://owk-gras-ellenbach.de/events/rund-um-lindenfels/
SUMMARY:Rund um Lindenfels
DESCRIPTION:[Komoot]\n\n\n\n\n 9\,45 km - 2:43 Stunden - 220 Höhenmeter\
 n\n\n\nMittelschwere Wanderung. Gute Grundkondition erforderlich. Überwie
 gend gut begehbare Wege. Trittsicherheit erforderlich.\n\n\n
ATTACH;FMTTYPE=image/jpeg:https://owk-gras-ellenbach.de/wp-content/uploads
 /2023/04/2023-04-14_11h31_19.png
LOCATION:Nibelungenhalle\, Gras-Ellenbach\, Am Kurpark \, Grasellenbach\, H
 essen\, 64689\, Odenwald\, Deutschland
X-APPLE-STRUCTURED-LOCATION;VALUE=URI;X-ADDRESS=Am Kurpark \, Grasellenbach
 \, Hessen\, 64689\, Odenwald\, Deutschland;X-APPLE-RADIUS=100;X-TITLE=Nibe
 lungenhalle\, Gras-Ellenbach:geo:0,0
END:VEVENT
BEGIN:VTIMEZONE
TZID:Europe/Berlin
X-LIC-LOCATION:Europe/Berlin
BEGIN:DAYLIGHT
DTSTART:20230326T030000
TZOFFSETFROM:+0100
TZOFFSETTO:+0200
TZNAME:CEST
END:DAYLIGHT
END:VTIMEZONE
END:VCALENDAR