BEGIN:VCALENDAR
VERSION:2.0
PRODID:-//wp-events-plugin.com//7.0.5//EN
TZID:Europe/Berlin
X-WR-TIMEZONE:Europe/Berlin
BEGIN:VEVENT
UID:151@owk-gras-ellenbach.de
DTSTART;TZID=Europe/Berlin:20240929T100000
DTEND;TZID=Europe/Berlin:20240929T170000
DTSTAMP:20240924T110919Z
URL:https://owk-gras-ellenbach.de/events/wanderung-bei-eiterbach/
SUMMARY:Wanderung bei Eiterbach
DESCRIPTION:mittelschwere Wanderung mit leicht begehbaren Wegen\n\nLiebe Wa
 nderfreunde\,\ndie Wanderung am 29.09.2024 nach Eiterbach startet\num 10:3
 0 Uhr vom\nParkplatz Bürgerhaus\, Forsthausweg in\nWald-Michelbach/Siedel
 sbrunn.\nVon dort gehen wir über den Hardberg und Stiefelhütte nach Eite
 rbach.\nIm Gasthaus zur "Goldenen Krone" kehren wir zum Mittagessen ein.\n
 Danach geht's über Lichtenklingen zurück nach Siedelsbrunn\,\nwo wir die
  Rückkehr gegen 17 Uhr geplant haben.\nBitte um Anmeldung bis Donnerstag\
 , den 26.09.2024.\nFreundliche Wandergrüße\nFranz-Josef und Elke\n\nFran
 z-Josef Gölz (06207 81171)
ATTACH;FMTTYPE=image/jpeg:https://owk-gras-ellenbach.de/wp-content/uploads
 /2023/12/Eiterbach.jpg
LOCATION:Nibelungenhalle\, Gras-Ellenbach\, Am Kurpark \, Grasellenbach\, H
 essen\, 64689\, Odenwald\, Deutschland
X-APPLE-STRUCTURED-LOCATION;VALUE=URI;X-ADDRESS=Am Kurpark \, Grasellenbach
 \, Hessen\, 64689\, Odenwald\, Deutschland;X-APPLE-RADIUS=100;X-TITLE=Nibe
 lungenhalle\, Gras-Ellenbach:geo:0,0
END:VEVENT
BEGIN:VTIMEZONE
TZID:Europe/Berlin
X-LIC-LOCATION:Europe/Berlin
BEGIN:DAYLIGHT
DTSTART:20240331T030000
TZOFFSETFROM:+0100
TZOFFSETTO:+0200
TZNAME:CEST
END:DAYLIGHT
END:VTIMEZONE
END:VCALENDAR